BEGIN:VCALENDAR
VERSION:2.0
PRODID:researchseminars.org
CALSCALE:GREGORIAN
X-WR-CALNAME:researchseminars.org
BEGIN:VEVENT
SUMMARY:Anton Alekseev (University of Geneva)
DTSTART:20210506T140000Z
DTEND:20210506T150000Z
DTSTAMP:20260423T005831Z
UID:JGPW2021/15
DESCRIPTION:Title: <a href="https://researchseminars.org/talk/JGPW2021/15/
 ">Poisson and Quasi-Poisson Structureson Moduli Spaces of Connections</a>\
 nby Anton Alekseev (University of Geneva) as part of Junior Global Poisson
  Workshop II\n\n\nAbstract\nThe purpose of a topic-based discussion sessio
 n is to discuss some open problems\, questions\, and vision in a subtopic 
 of Poisson geometry with junior researchers being the target audience. The
  main goal is to make the discussion informal and friendly\, and to formul
 ate some open problems in a simple way that young researchers can understa
 nd and get excited about.\n
LOCATION:https://researchseminars.org/talk/JGPW2021/15/
END:VEVENT
END:VCALENDAR
