BEGIN:VCALENDAR
VERSION:2.0
PRODID:researchseminars.org
CALSCALE:GREGORIAN
X-WR-CALNAME:researchseminars.org
BEGIN:VEVENT
SUMMARY:Carlos Zapata-Carratala (University of Edinburgh)
DTSTART:20210505T163000Z
DTEND:20210505T165500Z
DTSTAMP:20260423T024719Z
UID:JGPW2021/14
DESCRIPTION:Title: <a href="https://researchseminars.org/talk/JGPW2021/14/
 ">Poly-Jacobi Geometry: a Serendipitous Discovery</a>\nby Carlos Zapata-Ca
 rratala (University of Edinburgh) as part of Junior Global Poisson Worksho
 p II\n\n\nAbstract\nWith motivations in the implementation of physical dim
 ension into geometric mechanics\, I will introduce the formalism of dimens
 ioned algebra and the unit-free approach to Jacobi geometry. These will be
  shown to lead to a natural generalization of Jacobi/Poisson geometry wher
 e many constructions\, such as products and quotients\, become much more n
 atural. Finally\, I will present a breadth of structures\, tentatively cal
 led Poly-Jacobi\, which are natural to define within this formalism but do
 n't seem to have been identified in the Poisson literature.\n
LOCATION:https://researchseminars.org/talk/JGPW2021/14/
END:VEVENT
END:VCALENDAR
