BEGIN:VCALENDAR
VERSION:2.0
PRODID:researchseminars.org
CALSCALE:GREGORIAN
X-WR-CALNAME:researchseminars.org
BEGIN:VEVENT
SUMMARY:Huajie Li (MPIM Bonn)
DTSTART:20220118T080000Z
DTEND:20220118T083000Z
DTSTAMP:20260423T010809Z
UID:JENTE/65
DESCRIPTION:Title: <a href="https://researchseminars.org/talk/JENTE/65/">I
 ntroduction to the relative trace formulae of Guo-Jacquet</a>\nby Huajie L
 i (MPIM Bonn) as part of Japan Europe Number Theory Exchange Seminar\n\n\n
 Abstract\nGuo and Jacquet have proposed a conjecture generalising Waldspur
 ger’s well-known theorem relating toric periods to central values of aut
 omorphic L-functions for $GL(2)$. A promising tool to attack this conjectu
 re is the relative trace formula. Although the formula has not been establ
 ished in full generality\, its simple version has been used to prove some 
 cases of Guo-Jacquet’s conjecture. In this talk\, we shall introduce the
  background of their conjecture and survey some known results obtained via
  the relative trace formula. In the end\, we shall also mention our study 
 of some problems arising from this approach.\n
LOCATION:https://researchseminars.org/talk/JENTE/65/
END:VEVENT
END:VCALENDAR
