BEGIN:VCALENDAR
VERSION:2.0
PRODID:researchseminars.org
CALSCALE:GREGORIAN
X-WR-CALNAME:researchseminars.org
BEGIN:VEVENT
SUMMARY:Claudia Alfes-Neumann (Bielefeld University)
DTSTART:20210713T083500Z
DTEND:20210713T090500Z
DTSTAMP:20260423T010856Z
UID:JENTE/44
DESCRIPTION:Title: <a href="https://researchseminars.org/talk/JENTE/44/">E
 lliptic curves and harmonic weak Maass forms</a>\nby Claudia Alfes-Neumann
  (Bielefeld University) as part of Japan Europe Number Theory Exchange Sem
 inar\n\n\nAbstract\nIn this talk we first introduce modular forms and an a
 rithmetically particularly interesting generalization: harmonic weak Maass
  forms. We show how these forms can be related to elliptic curves. Special
  harmonic Maass forms encode the vanishing of the central L-value and L-de
 rivative which occur in the Birch and Swinnerton-Dyer Conjecture. (This is
  in parts joint work with Michael Griffin\, Ken Ono and Larry Rolen buildi
 ng upon work of Jan Bruinier an Ken Ono.)\n
LOCATION:https://researchseminars.org/talk/JENTE/44/
END:VEVENT
END:VCALENDAR
