BEGIN:VCALENDAR
VERSION:2.0
PRODID:researchseminars.org
CALSCALE:GREGORIAN
X-WR-CALNAME:researchseminars.org
BEGIN:VEVENT
SUMMARY:Jianqiang Zhao
DTSTART:20210126T084000Z
DTEND:20210126T091000Z
DTSTAMP:20260423T010856Z
UID:JENTE/28
DESCRIPTION:Title: <a href="https://researchseminars.org/talk/JENTE/28/">A
  Proof of Kaneko-Tsumura Conjecture on Triple T-Values</a>\nby Jianqiang Z
 hao as part of Japan Europe Number Theory Exchange Seminar\n\n\nAbstract\n
 In this talk\, I will describe an approach to discover many weighted sum f
 ormulas for colored multiple zeta values via generating functions. As appl
 ications\, I'll present a proof of Kaneko-Tsumura Conjecture on the weight
 ed sum formula of triple T-values.\n
LOCATION:https://researchseminars.org/talk/JENTE/28/
END:VEVENT
END:VCALENDAR
