BEGIN:VCALENDAR
VERSION:2.0
PRODID:researchseminars.org
CALSCALE:GREGORIAN
X-WR-CALNAME:researchseminars.org
BEGIN:VEVENT
SUMMARY:Junxian Li (MPIM Bonn)
DTSTART:20210112T084000Z
DTEND:20210112T091000Z
DTSTAMP:20260423T010921Z
UID:JENTE/24
DESCRIPTION:Title: <a href="https://researchseminars.org/talk/JENTE/24/">U
 niform Titchmarsh divisor problems</a>\nby Junxian Li (MPIM Bonn) as part 
 of Japan Europe Number Theory Exchange Seminar\n\n\nAbstract\nThe Titchmar
 sh divisor problem asks for an asymptotic evaluation of the\naverage of th
 e divisor function evaluated at shifted primes. We will discuss how strong
  error\nterms that are uniform in the shift parameters could be obtained u
 sing spectral theory of\nautomorphic forms. We will also discuss the autom
 orphic analogue of the Titchmarsh divisor\nproblem. This is a joint work w
 ith E. Assing and V. Blome.\n
LOCATION:https://researchseminars.org/talk/JENTE/24/
END:VEVENT
END:VCALENDAR
