BEGIN:VCALENDAR
VERSION:2.0
PRODID:researchseminars.org
CALSCALE:GREGORIAN
X-WR-CALNAME:researchseminars.org
BEGIN:VEVENT
SUMMARY:Qiqin Yin (Nanjing University)
DTSTART:20250610T133000Z
DTEND:20250610T143000Z
DTSTAMP:20260423T022929Z
UID:JCsabroso/7
DESCRIPTION:Title: <a href="https://researchseminars.org/talk/JCsabroso/7/
 ">Full-Spectrum Analysis of Gravitational Wave Production from Inflation t
 o Reheating</a>\nby Qiqin Yin (Nanjing University) as part of El Journal C
 lub más Sabroso\n\nAbstract: TBA\n
LOCATION:https://researchseminars.org/talk/JCsabroso/7/
END:VEVENT
END:VCALENDAR
