BEGIN:VCALENDAR
VERSION:2.0
PRODID:researchseminars.org
CALSCALE:GREGORIAN
X-WR-CALNAME:researchseminars.org
BEGIN:VEVENT
SUMMARY:Sagnik Mukherjee (University of Illinois at Chicago)
DTSTART:20250513T133000Z
DTEND:20250513T143000Z
DTSTAMP:20260423T022829Z
UID:JCsabroso/3
DESCRIPTION:Title: <a href="https://researchseminars.org/talk/JCsabroso/3/
 ">Constraining the Coexistence of Freeze-in Dark Matter and Primordial Bla
 ck Holes</a>\nby Sagnik Mukherjee (University of Illinois at Chicago) as p
 art of El Journal Club más Sabroso\n\nAbstract: TBA\n
LOCATION:https://researchseminars.org/talk/JCsabroso/3/
END:VEVENT
END:VCALENDAR
