BEGIN:VCALENDAR
VERSION:2.0
PRODID:researchseminars.org
CALSCALE:GREGORIAN
X-WR-CALNAME:researchseminars.org
BEGIN:VEVENT
SUMMARY:J. Kurchan
DTSTART:20210604T124000Z
DTEND:20210604T131000Z
DTSTAMP:20260423T003232Z
UID:Itzyk25/14
DESCRIPTION:Title: <a href="https://researchseminars.org/talk/Itzyk25/14/"
 >Simple models and low-temperature quantum chaos</a>\nby J. Kurchan as par
 t of 25th Itzykson Meeting: Many-body chaos\, scrambling and thermalizatio
 n in interacting quantum systems\n\nAbstract: TBA\n
LOCATION:https://researchseminars.org/talk/Itzyk25/14/
END:VEVENT
END:VCALENDAR
