BEGIN:VCALENDAR
VERSION:2.0
PRODID:researchseminars.org
CALSCALE:GREGORIAN
X-WR-CALNAME:researchseminars.org
BEGIN:VEVENT
SUMMARY:Daniel Faraco Hurtado (Universidad Autónoma de Madrid)
DTSTART:20210624T160000Z
DTEND:20210624T170000Z
DTSTAMP:20260423T035710Z
UID:Inverse/52
DESCRIPTION:Title: <a href="https://researchseminars.org/talk/Inverse/52/"
 >Mathematics with Slava Kurylev: Homogenization and  Inverse Problems</a>\
 nby Daniel Faraco Hurtado (Universidad Autónoma de Madrid) as part of Int
 ernational Zoom Inverse Problems Seminar\, UC Irvine\n\n\nAbstract\nI wil 
 describe two  theorems of Y. Kurylev with the Madrid group in relation wit
 h homogenization and inverse problems. In between those theorems I will re
 visit the relation between quasiconformal maps and the stability of Calder
 ón problemand how a  suitable average of the time dependent non elliptic 
 Schrödinger equation provides a seemly stable  Buckgheim type recovery al
 gorthim for irregular potentials. The talk is aimed to be not technical an
 d highlighting the new viewpoints.\n
LOCATION:https://researchseminars.org/talk/Inverse/52/
END:VEVENT
END:VCALENDAR
