BEGIN:VCALENDAR
VERSION:2.0
PRODID:researchseminars.org
CALSCALE:GREGORIAN
X-WR-CALNAME:researchseminars.org
BEGIN:VEVENT
SUMMARY:Liliana Borcea (University of Michigan)
DTSTART:20200820T160000Z
DTEND:20200820T170000Z
DTSTAMP:20260423T035706Z
UID:Inverse/13
DESCRIPTION:Title: <a href="https://researchseminars.org/talk/Inverse/13/"
 >Reduced order modeling for inverse problems</a>\nby Liliana Borcea (Unive
 rsity of Michigan) as part of International Zoom Inverse Problems Seminar\
 , UC Irvine\n\n\nAbstract\nI will discuss two approaches for building redu
 ced order models for solving inverse problems. One is for finding reflecto
 rs in a medium using an array of sensors that probes the medium with pulse
 s and measures the resulting waves. The other is for an inverse problem fo
 r parabolic (heat) equations.\n
LOCATION:https://researchseminars.org/talk/Inverse/13/
END:VEVENT
END:VCALENDAR
