BEGIN:VCALENDAR
VERSION:2.0
PRODID:researchseminars.org
CALSCALE:GREGORIAN
X-WR-CALNAME:researchseminars.org
BEGIN:VEVENT
SUMMARY:Peter Zograf (PDMI and SPbU)
DTSTART:20210511T095500Z
DTEND:20210511T102500Z
DTSTAMP:20260423T035905Z
UID:IWMD/4
DESCRIPTION:Title: <a href="https://researchseminars.org/talk/IWMD/4/">"As
 ymptotics of volumes of moduli spaces" (after a joint work with M. Mirzakh
 ani)</a>\nby Peter Zograf (PDMI and SPbU) as part of Colloquium dedicated 
 to International Women in Mathematics Day\n\nAbstract: TBA\n
LOCATION:https://researchseminars.org/talk/IWMD/4/
END:VEVENT
END:VCALENDAR
