BEGIN:VCALENDAR
VERSION:2.0
PRODID:researchseminars.org
CALSCALE:GREGORIAN
X-WR-CALNAME:researchseminars.org
BEGIN:VEVENT
SUMMARY:Elise Goujard (University of Bordeaux)
DTSTART:20210511T090500Z
DTEND:20210511T095000Z
DTSTAMP:20260423T040151Z
UID:IWMD/3
DESCRIPTION:Title: <a href="https://researchseminars.org/talk/IWMD/3/">"Va
 riations on meanders" (after a joint work with V. Delecroix\, P. Zograf an
 d A. Zorich)</a>\nby Elise Goujard (University of Bordeaux) as part of Col
 loquium dedicated to International Women in Mathematics Day\n\nAbstract: T
 BA\n
LOCATION:https://researchseminars.org/talk/IWMD/3/
END:VEVENT
END:VCALENDAR
