BEGIN:VCALENDAR
VERSION:2.0
PRODID:researchseminars.org
CALSCALE:GREGORIAN
X-WR-CALNAME:researchseminars.org
BEGIN:VEVENT
SUMMARY:Timo Schorlepp (University of Bochum)
DTSTART:20210507T150000Z
DTEND:20210507T160000Z
DTSTAMP:20260423T005829Z
UID:ITS050721/2
DESCRIPTION:Title: <a href="https://researchseminars.org/talk/ITS050721/2/
 ">Prefactor estimates for probability density functions in stochastic dyna
 mical systems via the Gel'fand-Yaglom method</a>\nby Timo Schorlepp (Unive
 rsity of Bochum) as part of Mathematics and Machine Learning: Recent Progr
 ess in Understanding Rare Events in Complex Systems\n\nAbstract: TBA\n
LOCATION:https://researchseminars.org/talk/ITS050721/2/
END:VEVENT
END:VCALENDAR
