BEGIN:VCALENDAR
VERSION:2.0
PRODID:researchseminars.org
CALSCALE:GREGORIAN
X-WR-CALNAME:researchseminars.org
BEGIN:VEVENT
SUMMARY:David Bachman (Pitzer College)
DTSTART:20240112T170000Z
DTEND:20240112T180000Z
DTSTAMP:20260423T035418Z
UID:IMSO/9
DESCRIPTION:Title: <a href="https://researchseminars.org/talk/IMSO/9/">Gro
 wing Art</a>\nby David Bachman (Pitzer College) as part of Illustrating Ma
 th Seminar Online\n\nAbstract: TBA\n
LOCATION:https://researchseminars.org/talk/IMSO/9/
END:VEVENT
END:VCALENDAR
