BEGIN:VCALENDAR
VERSION:2.0
PRODID:researchseminars.org
CALSCALE:GREGORIAN
X-WR-CALNAME:researchseminars.org
BEGIN:VEVENT
SUMMARY:Nelson Max (University of California\, Davis)
DTSTART:20231209T170000Z
DTEND:20231209T180000Z
DTSTAMP:20260423T035415Z
UID:IMSO/8
DESCRIPTION:Title: <a href="https://researchseminars.org/talk/IMSO/8/">Vis
 ualizing Topology and Tilings</a>\nby Nelson Max (University of California
 \, Davis) as part of Illustrating Math Seminar Online\n\n\nAbstract\nNelso
 n Max will show segments of several computer animated films from the 1970s
 \, on turning a circle or sphere inside out by a regular homotopy\, and on
  space filling curves\, and demonstrate a web-based system for uniform til
 ings of the sphere\, plane\, and hyperbolic plane.\n
LOCATION:https://researchseminars.org/talk/IMSO/8/
END:VEVENT
END:VCALENDAR
