BEGIN:VCALENDAR
VERSION:2.0
PRODID:researchseminars.org
CALSCALE:GREGORIAN
X-WR-CALNAME:researchseminars.org
BEGIN:VEVENT
SUMMARY:Chaim Goodman-Strauss (University of Arkansas and MoMath)
DTSTART:20231110T170000Z
DTEND:20231110T180000Z
DTSTAMP:20260423T021035Z
UID:IMSO/7
DESCRIPTION:Title: <a href="https://researchseminars.org/talk/IMSO/7/">Ill
 ustrating Mathematics</a>\nby Chaim Goodman-Strauss (University of Arkansa
 s and MoMath) as part of Illustrating Math Seminar Online\n\n\nAbstract\nI
 ’ve been illustrating mathematics since I’ve known any\, and will be s
 howing a variety of work in a range of media.\n
LOCATION:https://researchseminars.org/talk/IMSO/7/
END:VEVENT
END:VCALENDAR
