BEGIN:VCALENDAR
VERSION:2.0
PRODID:researchseminars.org
CALSCALE:GREGORIAN
X-WR-CALNAME:researchseminars.org
BEGIN:VEVENT
SUMMARY:Katherine E. Stange (University of Colorado\, Boulder)
DTSTART:20240308T170000Z
DTEND:20240308T180000Z
DTSTAMP:20260423T052449Z
UID:IMSO/11
DESCRIPTION:Title: <a href="https://researchseminars.org/talk/IMSO/11/">Be
 tween illustration and research in number theory\, part II.</a>\nby Kather
 ine E. Stange (University of Colorado\, Boulder) as part of Illustrating M
 ath Seminar Online\n\nAbstract: TBA\n
LOCATION:https://researchseminars.org/talk/IMSO/11/
END:VEVENT
END:VCALENDAR
