BEGIN:VCALENDAR
VERSION:2.0
PRODID:researchseminars.org
CALSCALE:GREGORIAN
X-WR-CALNAME:researchseminars.org
BEGIN:VEVENT
SUMMARY:Katherine E. Stange (University of Colorado\, Boulder)
DTSTART:20240209T170000Z
DTEND:20240209T180000Z
DTSTAMP:20260423T052447Z
UID:IMSO/10
DESCRIPTION:Title: <a href="https://researchseminars.org/talk/IMSO/10/">Be
 tween illustration and research in number theory</a>\nby Katherine E. Stan
 ge (University of Colorado\, Boulder) as part of Illustrating Math Seminar
  Online\n\nAbstract: TBA\n
LOCATION:https://researchseminars.org/talk/IMSO/10/
END:VEVENT
END:VCALENDAR
