BEGIN:VCALENDAR
VERSION:2.0
PRODID:researchseminars.org
CALSCALE:GREGORIAN
X-WR-CALNAME:researchseminars.org
BEGIN:VEVENT
SUMMARY:Yan Yan Li (Rutgers University)
DTSTART:20210506T140000Z
DTEND:20210506T145000Z
DTSTAMP:20260423T052549Z
UID:IMS/79
DESCRIPTION:Title: <a href="https://researchseminars.org/talk/IMS/79/">Reg
 ular solutions of the stationary Navier-Stokes equations on high dimension
 al Euclidean space</a>\nby Yan Yan Li (Rutgers University) as part of PDE 
 seminar via Zoom\n\n\nAbstract\nWe study the existence of regular solution
 s of the incompressible stationary Navier-Stokes equations in n-dimensiona
 l Euclidean space with a given bounded external force of compact support. 
 In dimensions $n\\le 5$\, the existence of such solutions was known. In th
 is paper\, we extend it to dimensions $n\\le 15$.    This is a joint work 
 with Zhuolun Yang.\n
LOCATION:https://researchseminars.org/talk/IMS/79/
END:VEVENT
END:VCALENDAR
