BEGIN:VCALENDAR
VERSION:2.0
PRODID:researchseminars.org
CALSCALE:GREGORIAN
X-WR-CALNAME:researchseminars.org
BEGIN:VEVENT
SUMMARY:Sylvia Serfaty (Courant Institute of Mathematical Sciences)
DTSTART:20200827T130000Z
DTEND:20200827T135000Z
DTSTAMP:20260423T021151Z
UID:IMS/51
DESCRIPTION:Title: <a href="https://researchseminars.org/talk/IMS/51/">Mea
 n-Field limits for Coulomb-type dynamics</a>\nby Sylvia Serfaty (Courant I
 nstitute of Mathematical Sciences) as part of PDE seminar via Zoom\n\n\nAb
 stract\nWe consider a system of N particles evolving according to the grad
 ient flow of their Coulomb or Riesz interaction\, or a similar conservativ
 e flow\, and possible added random diffusion. By Riesz interaction\, we me
 an inverse power s of the distance with s between d-2 and d where d denote
 s the dimension. We present a convergence result as N tends to infinity to
  the expected limiting mean field evolution equation. We also discuss the 
 derivation of Vlasov-Poisson from newtonian dynamics in the monokinetic ca
 se\, as well as related results for Ginzburg-Landau vortex dynamics.\n\nht
 tps://nguyenquochung1241.wixsite.com/qhung/post/pde-seminar-via-zoom\n
LOCATION:https://researchseminars.org/talk/IMS/51/
END:VEVENT
END:VCALENDAR
