BEGIN:VCALENDAR
VERSION:2.0
PRODID:researchseminars.org
CALSCALE:GREGORIAN
X-WR-CALNAME:researchseminars.org
BEGIN:VEVENT
SUMMARY:Daniel Tataru (University of California Berkeley)
DTSTART:20200820T150000Z
DTEND:20200820T155000Z
DTSTAMP:20260423T052757Z
UID:IMS/50
DESCRIPTION:Title: <a href="https://researchseminars.org/talk/IMS/50/">Com
 pressible Euler with physical vacuum: an Eulerian approach</a>\nby Daniel 
 Tataru (University of California Berkeley) as part of PDE seminar via Zoom
 \n\n\nAbstract\nThe compressible Euler equation  with physical vacuum is a
  free boundary problem in gas dynamics\, where the moving boundary represe
 nts the interface between gas and vacuum states\, with the density decayin
 g  to zero at the boundary. Such problems have been traditionally studied 
 using a Lagrangian approach and at high regularity. In this work we propos
 e a comprehensive alternative approach\, fully within the Eulerian setting
 \, and which leads to sharp results. This is joint work with Mihaela Ifrim
 \; the extension of these results to the relativistic case is also joint w
 ith Marcelo Disconzi.\n\nhttps://nguyenquochung1241.wixsite.com/qhung/post
 /pde-seminar-via-zoom\n
LOCATION:https://researchseminars.org/talk/IMS/50/
END:VEVENT
END:VCALENDAR
