BEGIN:VCALENDAR
VERSION:2.0
PRODID:researchseminars.org
CALSCALE:GREGORIAN
X-WR-CALNAME:researchseminars.org
BEGIN:VEVENT
SUMMARY:Javier Gómez-Serrano (Princeton University)
DTSTART:20200730T150000Z
DTEND:20200730T155000Z
DTSTAMP:20260423T052454Z
UID:IMS/48
DESCRIPTION:Title: <a href="https://researchseminars.org/talk/IMS/48/">Sym
 metry in stationary and uniformly rotating solutions of active scalars</a>
 \nby Javier Gómez-Serrano (Princeton University) as part of PDE seminar v
 ia Zoom\n\n\nAbstract\nIn this talk\, I will discuss a Liouville type theo
 rem for stationary or uniformly-rotating solutions of 2D Euler and the sur
 face quasi-geostrophic (SQG) equations. The main question we want to addre
 ss is whether every stationary/uniformly-rotating solution must\n be radia
 lly symmetric\, if the vorticity is compactly supported. Based\n on joint 
 work with Jaemin Park\, Jia Shi and Yao Yao.\n
LOCATION:https://researchseminars.org/talk/IMS/48/
END:VEVENT
END:VCALENDAR
