BEGIN:VCALENDAR
VERSION:2.0
PRODID:researchseminars.org
CALSCALE:GREGORIAN
X-WR-CALNAME:researchseminars.org
BEGIN:VEVENT
SUMMARY:Fabio Pusateri (University of Toronto)
DTSTART:20200618T130000Z
DTEND:20200618T135000Z
DTSTAMP:20260423T052546Z
UID:IMS/33
DESCRIPTION:Title: <a href="https://researchseminars.org/talk/IMS/33/">Mul
 tilinear Harmonic analysis for nonlinear PDEs with potentials</a>\nby Fabi
 o Pusateri (University of Toronto) as part of PDE seminar via Zoom\n\n\nAb
 stract\nMotivated by questions on the stability of topological solitons\, 
 we study some nonlinear dispersive PDEs with large potentials. Our approac
 h is based on the distorted Fourier transform and multilinear harmonic ana
 lysis in this setting. We will present results in both 1 and 3 dimensions 
 from a series of joint works with P. Germain\, G. Chen and A. Soffer.\n\nP
 lease visit our website to get more information: nguyenquochung1241.wixsit
 e.com/qhung/post/pde-seminar-via-zoom\n
LOCATION:https://researchseminars.org/talk/IMS/33/
END:VEVENT
END:VCALENDAR
