BEGIN:VCALENDAR
VERSION:2.0
PRODID:researchseminars.org
CALSCALE:GREGORIAN
X-WR-CALNAME:researchseminars.org
BEGIN:VEVENT
SUMMARY:Phan Thanh Nam (LMU Munich)
DTSTART:20200604T150000Z
DTEND:20200604T155000Z
DTSTAMP:20260423T035629Z
UID:IMS/24
DESCRIPTION:Title: <a href="https://researchseminars.org/talk/IMS/24/">Der
 ivation of the Bose-Einstein condensation for trapped bosons</a>\nby Phan 
 Thanh Nam (LMU Munich) as part of PDE seminar via Zoom\n\nAbstract: TBA\n\
 nHere is the poster of this talk: \nhttps://www.dropbox.com/s/3ixoc26oxs2t
 blj/9th%20PDE%20Seminar.pdf?dl=0\n\nPlease visit our website to get more i
 nformation: \n\nhttps://nguyenquochung1241.wixsite.com/qhung/post/pde-semi
 nar-via-zoom\n
LOCATION:https://researchseminars.org/talk/IMS/24/
END:VEVENT
END:VCALENDAR
