BEGIN:VCALENDAR
VERSION:2.0
PRODID:researchseminars.org
CALSCALE:GREGORIAN
X-WR-CALNAME:researchseminars.org
BEGIN:VEVENT
SUMMARY:Didier Bresch (Université Savoie Mont-Blanc)
DTSTART:20200507T150000Z
DTEND:20200507T155000Z
DTSTAMP:20260423T035637Z
UID:IMS/19
DESCRIPTION:Title: <a href="https://researchseminars.org/talk/IMS/19/">On 
 the stationary compressible Navier-Stokes equations</a>\nby Didier Bresch 
 (Université Savoie Mont-Blanc) as part of PDE seminar via Zoom\n\n\nAbstr
 act\nIn this talk\, I remind known results regarding weak solutions for th
 e isotropic stationary compressible Navier-Stokes equations with constant 
 shear and bulk viscosities. Then I will present how to  extend the results
  to more general stress tensors including anisotropy and non-local terms. 
 This seminar is based on joint works with Cosmin Burtea (IMJ Paris 7\, Fra
 nce).\n\nHere is the poster of this talk: https://www.dropbox.com/s/3pgqaw
 pbjh20g6m/5th%20PDE%20Seminar.pdf?dl=0\n\nPlease visit our website to get 
 more information: \nhttps://nguyenquochung1241.wixsite.com/qhung/post/pde-
 seminar-via-zoom\n
LOCATION:https://researchseminars.org/talk/IMS/19/
END:VEVENT
END:VCALENDAR
