BEGIN:VCALENDAR
VERSION:2.0
PRODID:researchseminars.org
CALSCALE:GREGORIAN
X-WR-CALNAME:researchseminars.org
BEGIN:VEVENT
SUMMARY:Theodore Drivas (Princeton University)
DTSTART:20200514T150000Z
DTEND:20200514T155000Z
DTSTAMP:20260423T035612Z
UID:IMS/13
DESCRIPTION:Title: <a href="https://researchseminars.org/talk/IMS/13/">Qua
 sisymmetric plasma equilibria with small forcing</a>\nby Theodore Drivas (
 Princeton University) as part of PDE seminar via Zoom\n\n\nAbstract\nQuasi
 symmetry is a structural property of a magnetic field  which ensures that 
 charge particles remain well confined within the guiding centre approximat
 ion of their motion. Identifying plasma equilibria enjoying this property 
 is a key part of ongoing attempts to achieve efficient plasma fusion. I wi
 ll discuss the construction of toroidal equilibria which achieve quasisymm
 etry and are sustained by a small forcing.\n\nHere is the poster of this t
 alk: www.dropbox.com/s/htly5kmdcl2dfw2/PDE%20Seminar%206th.pdf?dl=0\n\nPle
 ase visit our website to get more information: \nhttps://nguyenquochung124
 1.wixsite.com/qhung/post/pde-seminar-via-zoom\n
LOCATION:https://researchseminars.org/talk/IMS/13/
END:VEVENT
END:VCALENDAR
