BEGIN:VCALENDAR
VERSION:2.0
PRODID:researchseminars.org
CALSCALE:GREGORIAN
X-WR-CALNAME:researchseminars.org
BEGIN:VEVENT
SUMMARY:Agnese Bissi
DTSTART:20200826T160000Z
DTEND:20200826T163000Z
DTSTAMP:20260423T024544Z
UID:IGST2020/18
DESCRIPTION:Title: <a href="https://researchseminars.org/talk/IGST2020/18/
 ">Discussion Session on CFT</a>\nby Agnese Bissi as part of Integrability 
 in Gauge and String Theory (IGST) 2020\n\nAbstract: TBA\n
LOCATION:https://researchseminars.org/talk/IGST2020/18/
END:VEVENT
END:VCALENDAR
