BEGIN:VCALENDAR
VERSION:2.0
PRODID:researchseminars.org
CALSCALE:GREGORIAN
X-WR-CALNAME:researchseminars.org
BEGIN:VEVENT
SUMMARY:Fedor Levkovich-Maslyuk
DTSTART:20200826T130000Z
DTEND:20200826T133000Z
DTSTAMP:20260423T005650Z
UID:IGST2020/13
DESCRIPTION:Title: <a href="https://researchseminars.org/talk/IGST2020/13/
 ">Separation of variables and scalar products at any rank: from spin chain
 s to fishnet CFT</a>\nby Fedor Levkovich-Maslyuk as part of Integrability 
 in Gauge and String Theory (IGST) 2020\n\nAbstract: TBA\n
LOCATION:https://researchseminars.org/talk/IGST2020/13/
END:VEVENT
END:VCALENDAR
