BEGIN:VCALENDAR
VERSION:2.0
PRODID:researchseminars.org
CALSCALE:GREGORIAN
X-WR-CALNAME:researchseminars.org
BEGIN:VEVENT
SUMMARY:Wolfgang Altmannshofer (U. C. Santa Cruz)
DTSTART:20210524T140000Z
DTEND:20210524T150000Z
DTSTAMP:20260423T003252Z
UID:IFTWeb/54
DESCRIPTION:Title: <a href="https://researchseminars.org/talk/IFTWeb/54/">
 The state of B anomalies</a>\nby Wolfgang Altmannshofer (U. C. Santa Cruz)
  as part of IFT-Madrid Webinars\n\n\nAbstract\nFor several years\, various
  experimental results on B meson decays show persistent discrepancies with
  respect to Standard Model expectations. Discrepancies are observed in bra
 nching ratios\, angular distributions\, and lepton flavor universality rat
 ios. I will review the status of those discrepancies\, discuss possible ne
 w physics explanations\, and outline the prospects of resolving them with 
 expected experimental data.\n
LOCATION:https://researchseminars.org/talk/IFTWeb/54/
END:VEVENT
END:VCALENDAR
