BEGIN:VCALENDAR
VERSION:2.0
PRODID:researchseminars.org
CALSCALE:GREGORIAN
X-WR-CALNAME:researchseminars.org
BEGIN:VEVENT
SUMMARY:Jeff Hicks (Cambridge)
DTSTART:20210524T010000Z
DTEND:20210524T020000Z
DTSTAMP:20260423T005723Z
UID:IBSCGP/15
DESCRIPTION:Title: <a href="https://researchseminars.org/talk/IBSCGP/15/">
 Lagrangian Cobordism and Lagrangian Surgery</a>\nby Jeff Hicks (Cambridge)
  as part of IBS-CGP weekly zoom seminar\n\nLecture held in Zoom online.\n\
 nAbstract\nA Lagrangian cobordism is a Lagrangian submanifold in X x C who
 se "ends" are Lagrangian submanifolds inside of X. We will show that the L
 agrangian cobordisms associated to the Lagrangian surgery operation provid
 e the building blocks for all Lagrangian cobordisms. Finally\, we will dis
 cuss some of the Floer theoretic implications of this decomposition\, exte
 nding previous work of Biran and Cornea. This is based on work from arxiv:
 2102.10197.\n
LOCATION:https://researchseminars.org/talk/IBSCGP/15/
END:VEVENT
END:VCALENDAR
