BEGIN:VCALENDAR
VERSION:2.0
PRODID:researchseminars.org
CALSCALE:GREGORIAN
X-WR-CALNAME:researchseminars.org
BEGIN:VEVENT
SUMMARY:Aldo Cotrone (University of Firenze)
DTSTART:20200922T140000Z
DTEND:20200922T150000Z
DTSTAMP:20260423T023056Z
UID:HoloTube/20
DESCRIPTION:Title: <a href="https://researchseminars.org/talk/HoloTube/20/
 ">Holographic QCD and Gravitational Waves</a>\nby Aldo Cotrone (University
  of Firenze) as part of HoloTube: Applied holography webinars\n\n\nAbstrac
 t\nI will first review basic properties of the Sakai-Sugimoto model\, the 
 top-down holographic theory closest to QCD. Then\, in this model I will de
 scribe the process of nucleation of bubbles of true vacua in the case of t
 wo first-order transitions: the confinement/deconfinement and chiral symme
 try breaking/restoration ones. Finally\, using these information\, I will 
 present the calculation of the gravitational wave spectra generated in the
 se transitions\, when the Sakai-Sugimoto model is employed as a dark secto
 r. Prospects of detection will be discussed.\n
LOCATION:https://researchseminars.org/talk/HoloTube/20/
END:VEVENT
END:VCALENDAR
