BEGIN:VCALENDAR
VERSION:2.0
PRODID:researchseminars.org
CALSCALE:GREGORIAN
X-WR-CALNAME:researchseminars.org
BEGIN:VEVENT
SUMMARY:Luca Delacretaz (University of Chicago)
DTSTART:20200430T150000Z
DTEND:20200430T160000Z
DTSTAMP:20260423T041010Z
UID:HoloTube/1
DESCRIPTION:Title: <a href="https://researchseminars.org/talk/HoloTube/1/"
 >Hydrodynamic Fluctuations</a>\nby Luca Delacretaz (University of Chicago)
  as part of HoloTube: Applied holography webinars\n\nAbstract: TBA\n
LOCATION:https://researchseminars.org/talk/HoloTube/1/
END:VEVENT
END:VCALENDAR
