BEGIN:VCALENDAR
VERSION:2.0
PRODID:researchseminars.org
CALSCALE:GREGORIAN
X-WR-CALNAME:researchseminars.org
BEGIN:VEVENT
SUMMARY:Aaron Landesman (Stanford University)
DTSTART:20201104T200000Z
DTEND:20201104T210000Z
DTSTAMP:20260422T205522Z
UID:HarvardNT/7
DESCRIPTION:Title: <a href="https://researchseminars.org/talk/HarvardNT/7/
 ">A geometric approach to the Cohen-Lenstra heuristics</a>\nby Aaron Lande
 sman (Stanford University) as part of Harvard number theory seminar\n\n\nA
 bstract\nFor any positive integer $n$\,\nwe explain why the total number o
 f order $n$ elements\nin class groups of quadratic fields of discriminant\
 nhaving absolute value at most $X$ is $O_n(X^{5/4})$.\n
LOCATION:https://researchseminars.org/talk/HarvardNT/7/
END:VEVENT
END:VCALENDAR
