BEGIN:VCALENDAR
VERSION:2.0
PRODID:researchseminars.org
CALSCALE:GREGORIAN
X-WR-CALNAME:researchseminars.org
BEGIN:VEVENT
SUMMARY:Daniel Kriz (MIT)
DTSTART:20200415T190000Z
DTEND:20200415T201500Z
DTSTAMP:20260422T205435Z
UID:HarvardNT/2
DESCRIPTION:Title: <a href="https://researchseminars.org/talk/HarvardNT/2/
 ">Converse theorems for supersingular CM elliptic curves</a>\nby Daniel Kr
 iz (MIT) as part of Harvard number theory seminar\n\nAbstract: TBA\n
LOCATION:https://researchseminars.org/talk/HarvardNT/2/
END:VEVENT
END:VCALENDAR
