BEGIN:VCALENDAR
VERSION:2.0
PRODID:researchseminars.org
CALSCALE:GREGORIAN
X-WR-CALNAME:researchseminars.org
BEGIN:VEVENT
SUMMARY:Eric Grinberg
DTSTART:20210531T143000Z
DTEND:20210531T145000Z
DTSTAMP:20260423T040541Z
UID:HSA2021/5
DESCRIPTION:Title: <a href="https://researchseminars.org/talk/HSA2021/5/">
 Invariant function algebras on Hermitian symmetric domains with boundary</
 a>\nby Eric Grinberg as part of Harmonic and Spectral Analysis\n\nAbstract
 : TBA\n
LOCATION:https://researchseminars.org/talk/HSA2021/5/
END:VEVENT
END:VCALENDAR
