BEGIN:VCALENDAR
VERSION:2.0
PRODID:researchseminars.org
CALSCALE:GREGORIAN
X-WR-CALNAME:researchseminars.org
BEGIN:VEVENT
SUMMARY:Yucheng Liu (Chongqing University)
DTSTART:20240229T080000Z
DTEND:20240229T093000Z
DTSTAMP:20260422T161047Z
UID:HKUST-AG/40
DESCRIPTION:Title: <a href="https://researchseminars.org/talk/HKUST-AG/40/
 ">Continuum envelopes on Fargues-Fontaine curve and elliptic curves</a>\nb
 y Yucheng Liu (Chongqing University) as part of Algebra and Geometry Semin
 ar @ HKUST\n\nLecture held in 4472.\n\nAbstract\nAbstract: In this talk\, 
 I will discuss some of the applications of Bridgeland stability conditions
 \, which was originated from string theory\, on Fargues-Fontaine curve. Th
 is leads us to the notion of continuum \nenvelope on the curve and SL(2\,Z
 ) variants of Colmez-Fontaine‘s division algebra. Fargues-Fontaine curve
  presents strong similarity to elliptic curves and noncommutative tori in 
 this perspective.\n
LOCATION:https://researchseminars.org/talk/HKUST-AG/40/
END:VEVENT
END:VCALENDAR
