BEGIN:VCALENDAR
VERSION:2.0
PRODID:researchseminars.org
CALSCALE:GREGORIAN
X-WR-CALNAME:researchseminars.org
BEGIN:VEVENT
SUMMARY:Yaoxiang Wen (Korea Institute For Advanced Study)
DTSTART:20231113T070000Z
DTEND:20231113T083000Z
DTSTAMP:20260422T155909Z
UID:HKUST-AG/27
DESCRIPTION:Title: <a href="https://researchseminars.org/talk/HKUST-AG/27/
 ">Mirror symmetries for parabolic Hitchin systems\, from classical to glob
 al\, I</a>\nby Yaoxiang Wen (Korea Institute For Advanced Study) as part o
 f Algebra and Geometry Seminar @ HKUST\n\nLecture held in 5510.\n\nAbstrac
 t\nIn the first talk\, I will briefly review the Hitchin system's history 
 and mirror symmetries. Then\, mention our motivation for the parabolic Hit
 chin system. I will explain how the parabolic structures connect to nilpot
 ent orbits. In the rest of the talk\, I will explain the mirror symmetry f
 or nilpotent orbit closures\, i.e.\, the classical mirror symmetry. This t
 alk is mainly based on the joint work with B. Fu and Y. Ruan (arXiv:2207.1
 0533).\n
LOCATION:https://researchseminars.org/talk/HKUST-AG/27/
END:VEVENT
END:VCALENDAR
