BEGIN:VCALENDAR
VERSION:2.0
PRODID:researchseminars.org
CALSCALE:GREGORIAN
X-WR-CALNAME:researchseminars.org
BEGIN:VEVENT
SUMMARY:Adeel Khan (Academia Sinica)
DTSTART:20231025T070000Z
DTEND:20231025T083000Z
DTSTAMP:20260422T155619Z
UID:HKUST-AG/20
DESCRIPTION:Title: <a href="https://researchseminars.org/talk/HKUST-AG/20/
 ">Microlocalization on derived moduli spaces</a>\nby Adeel Khan (Academia 
 Sinica) as part of Algebra and Geometry Seminar @ HKUST\n\nLecture held in
  Room 5566.\n\nAbstract\nThe classical formalism of microlocal sheaf theor
 y à la Kashiwara-Schapira is very useful in the study of manifolds.  I wi
 ll describe a generalization to the context of derived algebraic geometry\
 , which is useful in the study of derived moduli spaces.  For example\, I 
 will discuss how it gives a new perspective on topics like the virtual fun
 damental class\, categorified Donaldson-Thomas theory\, and the critical o
 r 3d cohomological Hall algebras of Kontsevich-Soibelman.  Based on forthc
 oming joint work with Tasuki Kinjo.\n
LOCATION:https://researchseminars.org/talk/HKUST-AG/20/
END:VEVENT
END:VCALENDAR
