BEGIN:VCALENDAR
VERSION:2.0
PRODID:researchseminars.org
CALSCALE:GREGORIAN
X-WR-CALNAME:researchseminars.org
BEGIN:VEVENT
SUMMARY:Ahmed Rakin Kamal (Masaryk University\, Brno\, Czech Republic)
DTSTART:20260226T070000Z
DTEND:20260226T080000Z
DTSTAMP:20260423T041749Z
UID:HETnyuad/13
DESCRIPTION:Title: <a href="https://researchseminars.org/talk/HETnyuad/13/
 ">Cosmological flux backgrounds in string theory</a>\nby Ahmed Rakin Kamal
  (Masaryk University\, Brno\, Czech Republic) as part of High Energy Theor
 y NYU Abu Dhabi\n\nLecture held in NYU Abu Dhabi Computational Research Bu
 ilding.\nAbstract: TBA\n
LOCATION:https://researchseminars.org/talk/HETnyuad/13/
END:VEVENT
END:VCALENDAR
