BEGIN:VCALENDAR
VERSION:2.0
PRODID:researchseminars.org
CALSCALE:GREGORIAN
X-WR-CALNAME:researchseminars.org
BEGIN:VEVENT
SUMMARY:Ilias Cholis (Oakland University)
DTSTART:20210224T113000Z
DTEND:20210224T133000Z
DTSTAMP:20260423T041818Z
UID:HETatNTUA/7
DESCRIPTION:Title: <a href="https://researchseminars.org/talk/HETatNTUA/7/
 ">Antimatter Cosmic-Ray Nuclei as a probe of Dark Matter</a>\nby Ilias Cho
 lis (Oakland University) as part of High Energy Theory\, Gravity  and Cosm
 ology Seminars @ NTUA\n\n\nAbstract\nAntimatter cosmic ray measurements ca
 n advance our understanding of high-energy astrophysical phenomena in our 
 own Galaxy. Over the last years\, satellite experiments as the Alpha Magne
 tic Spectrometer on board the International Space Station measure antimatt
 er cosmic ray fluxes\, including antiprotons and recently antimatter nucle
 i. These measurements provide a novel probe to search for new physics incl
 uding annihilations of dark matter in the Milky Way\, which I will present
 .\n
LOCATION:https://researchseminars.org/talk/HETatNTUA/7/
END:VEVENT
END:VCALENDAR
