BEGIN:VCALENDAR
VERSION:2.0
PRODID:researchseminars.org
CALSCALE:GREGORIAN
X-WR-CALNAME:researchseminars.org
BEGIN:VEVENT
SUMMARY:Pawel Caputa (University of Warsaw)
DTSTART:20221101T193000Z
DTEND:20221101T203000Z
DTSTAMP:20260423T005714Z
UID:HET/41
DESCRIPTION:Title: <a href="https://researchseminars.org/talk/HET/41/">Qua
 ntum Complexity in the Krylov basis</a>\nby Pawel Caputa (University of Wa
 rsaw) as part of Purdue HET\n\n\nAbstract\nI will review some recent progr
 ess on defining a universal measure of quantum complexity based on the so-
 called Krylov basis. After introducing Krylov basis techniques\, I will di
 scuss the “Spread Complexity” measure for quantum states with some exp
 licit examples its general properties. The talk will be based on:\nhttps:/
 /arxiv.org/abs/2202.06957\nhttps://arxiv.org/abs/2109.03824\n
LOCATION:https://researchseminars.org/talk/HET/41/
END:VEVENT
END:VCALENDAR
