BEGIN:VCALENDAR
VERSION:2.0
PRODID:researchseminars.org
CALSCALE:GREGORIAN
X-WR-CALNAME:researchseminars.org
BEGIN:VEVENT
SUMMARY:José Luis Romero (University of Vienna)
DTSTART:20201202T174000Z
DTEND:20201202T184000Z
DTSTAMP:20260423T035630Z
UID:HAeS/7
DESCRIPTION:Title: <a href="https://researchseminars.org/talk/HAeS/7/">Sam
 pling\, density\, and equidistribution</a>\nby José Luis Romero (Universi
 ty of Vienna) as part of Harmonic analysis e-seminars\n\nAbstract: TBA\n
LOCATION:https://researchseminars.org/talk/HAeS/7/
END:VEVENT
END:VCALENDAR
