BEGIN:VCALENDAR
VERSION:2.0
PRODID:researchseminars.org
CALSCALE:GREGORIAN
X-WR-CALNAME:researchseminars.org
BEGIN:VEVENT
SUMMARY:Tommaso Bruno (Ghent University)
DTSTART:20201014T160000Z
DTEND:20201014T170000Z
DTSTAMP:20260423T021149Z
UID:HAeS/6
DESCRIPTION:Title: <a href="https://researchseminars.org/talk/HAeS/6/">Fac
 torization properties of smooth functions and vectors</a>\nby Tommaso Brun
 o (Ghent University) as part of Harmonic analysis e-seminars\n\n\nAbstract
 \nGiven a module $\\mathcal{M}$ over a non-unital algebra $\\mathcal{A}$\,
  we say that $\\mathcal{M}$ has the weak factorization property if $\\math
 cal{M}= \\mathrm{span} \\{\\mathcal{A} \\cdot \\mathcal{M}\\}$\, while it 
 has the strong factorization property if $\\mathcal{M}= \\mathcal{A} \\cdo
 t \\mathcal{M}$. In this talk we shall review old and recent results about
  strong and weak factorizations of smooth functions and smooth vectors of 
 Lie group representations. We shall also discuss open problems and current
  lines of research.\n
LOCATION:https://researchseminars.org/talk/HAeS/6/
END:VEVENT
END:VCALENDAR
