BEGIN:VCALENDAR
VERSION:2.0
PRODID:researchseminars.org
CALSCALE:GREGORIAN
X-WR-CALNAME:researchseminars.org
BEGIN:VEVENT
SUMMARY:Detlef  Müller (University of Kiel)
DTSTART:20220323T170000Z
DTEND:20220323T180000Z
DTSTAMP:20260423T035728Z
UID:HAeS/30
DESCRIPTION:Title: <a href="https://researchseminars.org/talk/HAeS/30/">On
  Fourier restriction to hyperbolic 2-surfaces: robustness of the polynomia
 l compared to the bilinear approach</a>\nby Detlef  Müller (University of
  Kiel) as part of Harmonic analysis e-seminars\n\n\nAbstract\nIn this talk
 \, which will be based on joint research with S. Buschenhenke\nand A.Varga
 s\, I intend to discuss some of the new challenges that arose in our\nstud
 ies of Fourier restriction estimates for hyperbolic surfaces\, compared to
 \nthe case of elliptic surfaces. Given the complexity of the bilinear\, an
 d even\nmore so of the polynomial partitioning approach\, I shall mainly f
 ocus on\nthose parts of these methods which required new ideas\, so that a
  familiarity\nwith these methods will not be expected from the audience.\n
LOCATION:https://researchseminars.org/talk/HAeS/30/
END:VEVENT
END:VCALENDAR
