BEGIN:VCALENDAR
VERSION:2.0
PRODID:researchseminars.org
CALSCALE:GREGORIAN
X-WR-CALNAME:researchseminars.org
BEGIN:VEVENT
SUMMARY:Yunfeng Zhang (Peking University)
DTSTART:20211029T140000Z
DTEND:20211029T150000Z
DTSTAMP:20260423T022621Z
UID:HASS21/8
DESCRIPTION:Title: <a href="https://researchseminars.org/talk/HASS21/8/">F
 ourier restriction bounds on compact symmetric spaces</a>\nby Yunfeng Zhan
 g (Peking University) as part of Harmonic Analysis and Symmetric Spaces 20
 21\n\n\nAbstract\nIn this talk I will make a survey of bounds of "Fourier 
 restriction" type on compact Lie groups and more generally compact globall
 y symmetric spaces. These include Laplace-Beltrami eigenfunction bound\, S
 trichartz estimate for the Schrodinger equation\, and joint eigenfunction 
 bound for invariant differential operators. Optimal bounds are all open\, 
 for which a more refined combination of Lie theory and analysis would be n
 eeded.\n
LOCATION:https://researchseminars.org/talk/HASS21/8/
END:VEVENT
END:VCALENDAR
