BEGIN:VCALENDAR
VERSION:2.0
PRODID:researchseminars.org
CALSCALE:GREGORIAN
X-WR-CALNAME:researchseminars.org
BEGIN:VEVENT
SUMMARY:Project Updates
DTSTART:20230316T210000Z
DTEND:20230316T220000Z
DTSTAMP:20260423T052456Z
UID:Govbase/36
DESCRIPTION:Title: <a href="https://researchseminars.org/talk/Govbase/36/"
 >Project Updates</a>\nby Project Updates as part of Govbase Labs\n\nAbstra
 ct: TBA\n
LOCATION:https://researchseminars.org/talk/Govbase/36/
END:VEVENT
END:VCALENDAR
