BEGIN:VCALENDAR
VERSION:2.0
PRODID:researchseminars.org
CALSCALE:GREGORIAN
X-WR-CALNAME:researchseminars.org
BEGIN:VEVENT
SUMMARY:Project Updates
DTSTART:20230223T220000Z
DTEND:20230223T230000Z
DTSTAMP:20260423T021122Z
UID:Govbase/31
DESCRIPTION:Title: <a href="https://researchseminars.org/talk/Govbase/31/"
 >Submit proposal in #govbase</a>\nby Project Updates as part of Govbase La
 bs\n\nAbstract: TBA\n
LOCATION:https://researchseminars.org/talk/Govbase/31/
END:VEVENT
END:VCALENDAR
