BEGIN:VCALENDAR
VERSION:2.0
PRODID:researchseminars.org
CALSCALE:GREGORIAN
X-WR-CALNAME:researchseminars.org
BEGIN:VEVENT
SUMMARY:Joshua Tan
DTSTART:20230119T220000Z
DTEND:20230119T230000Z
DTSTAMP:20260423T021126Z
UID:Govbase/26
DESCRIPTION:Title: <a href="https://researchseminars.org/talk/Govbase/26/"
 >Algebraic Governance</a>\nby Joshua Tan as part of Govbase Labs\n\nAbstra
 ct: TBA\n
LOCATION:https://researchseminars.org/talk/Govbase/26/
END:VEVENT
END:VCALENDAR
