BEGIN:VCALENDAR
VERSION:2.0
PRODID:researchseminars.org
CALSCALE:GREGORIAN
X-WR-CALNAME:researchseminars.org
BEGIN:VEVENT
SUMMARY:Open Slot
DTSTART:20221229T220000Z
DTEND:20221229T230000Z
DTSTAMP:20260423T052455Z
UID:Govbase/22
DESCRIPTION:Title: <a href="https://researchseminars.org/talk/Govbase/22/"
 >Submit proposal in #govbase</a>\nby Open Slot as part of Govbase Labs\n\n
 Abstract: TBA\n
LOCATION:https://researchseminars.org/talk/Govbase/22/
END:VEVENT
END:VCALENDAR
